BEGIN:VCALENDAR
VERSION:2.0
PRODID:-//Quail Valley - ECPv6.15.18//NONSGML v1.0//EN
CALSCALE:GREGORIAN
METHOD:PUBLISH
X-ORIGINAL-URL:https://www.golfquailvalley.com
X-WR-CALDESC:Events for Quail Valley
REFRESH-INTERVAL;VALUE=DURATION:PT1H
X-Robots-Tag:noindex
X-PUBLISHED-TTL:PT1H
BEGIN:VTIMEZONE
TZID:America/Chicago
BEGIN:DAYLIGHT
TZOFFSETFROM:-0600
TZOFFSETTO:-0500
TZNAME:CDT
DTSTART:20240310T080000
END:DAYLIGHT
BEGIN:STANDARD
TZOFFSETFROM:-0500
TZOFFSETTO:-0600
TZNAME:CST
DTSTART:20241103T070000
END:STANDARD
BEGIN:DAYLIGHT
TZOFFSETFROM:-0600
TZOFFSETTO:-0500
TZNAME:CDT
DTSTART:20250309T080000
END:DAYLIGHT
BEGIN:STANDARD
TZOFFSETFROM:-0500
TZOFFSETTO:-0600
TZNAME:CST
DTSTART:20251102T070000
END:STANDARD
BEGIN:DAYLIGHT
TZOFFSETFROM:-0600
TZOFFSETTO:-0500
TZNAME:CDT
DTSTART:20260308T080000
END:DAYLIGHT
BEGIN:STANDARD
TZOFFSETFROM:-0500
TZOFFSETTO:-0600
TZNAME:CST
DTSTART:20261101T070000
END:STANDARD
END:VTIMEZONE
BEGIN:VEVENT
DTSTART;VALUE=DATE:20250319
DTEND;VALUE=DATE:20250320
DTSTAMP:20260422T055259
CREATED:20250309T205215Z
LAST-MODIFIED:20250309T205215Z
UID:2441-1742342400-1742428799@www.golfquailvalley.com
SUMMARY:Callaway Performance Fitting
DESCRIPTION:Callaway Performance Fittings must be booked in advance. \nwww.callawaygolf.com/PerformanceFitSignup?id=8116d6ea-8590-4c05-943c-d499fdb56fcf
URL:https://www.golfquailvalley.com/event/callaway-performance-fitting/
CATEGORIES:Golf
ATTACH;FMTTYPE=image/webp:https://www.golfquailvalley.com/wp-content/uploads/sites/9212/2025/02/Callaway-Performance-Fitting-March-2025-featured.webp
END:VEVENT
END:VCALENDAR