BEGIN:VCALENDAR
VERSION:2.0
PRODID:-//Quail Valley - ECPv6.15.18//NONSGML v1.0//EN
CALSCALE:GREGORIAN
METHOD:PUBLISH
X-ORIGINAL-URL:https://www.golfquailvalley.com
X-WR-CALDESC:Events for Quail Valley
REFRESH-INTERVAL;VALUE=DURATION:PT1H
X-Robots-Tag:noindex
X-PUBLISHED-TTL:PT1H
BEGIN:VTIMEZONE
TZID:America/Chicago
BEGIN:DAYLIGHT
TZOFFSETFROM:-0600
TZOFFSETTO:-0500
TZNAME:CDT
DTSTART:20240310T080000
END:DAYLIGHT
BEGIN:STANDARD
TZOFFSETFROM:-0500
TZOFFSETTO:-0600
TZNAME:CST
DTSTART:20241103T070000
END:STANDARD
BEGIN:DAYLIGHT
TZOFFSETFROM:-0600
TZOFFSETTO:-0500
TZNAME:CDT
DTSTART:20250309T080000
END:DAYLIGHT
BEGIN:STANDARD
TZOFFSETFROM:-0500
TZOFFSETTO:-0600
TZNAME:CST
DTSTART:20251102T070000
END:STANDARD
BEGIN:DAYLIGHT
TZOFFSETFROM:-0600
TZOFFSETTO:-0500
TZNAME:CDT
DTSTART:20260308T080000
END:DAYLIGHT
BEGIN:STANDARD
TZOFFSETFROM:-0500
TZOFFSETTO:-0600
TZNAME:CST
DTSTART:20261101T070000
END:STANDARD
END:VTIMEZONE
BEGIN:VEVENT
DTSTART;VALUE=DATE:20250913
DTEND;VALUE=DATE:20251026
DTSTAMP:20260422T165007
CREATED:20250723T133925Z
LAST-MODIFIED:20250913T175705Z
UID:3025-1757721600-1761436799@www.golfquailvalley.com
SUMMARY:Group Golf Lessons for Adults (Sept 2025)
DESCRIPTION:GOUP LESSONS ARE FULL.. NO LONGER TAKING NEW PARTICIPANTS \nWe’re excited to continue the 6-week series for adults (18+) wanting to learn the game or make incremental improvements. This gives you time to work on the adjustments during the week on your own and solidify those gains as we progress. \n\nAttend 1 group lesson per week – you choose the day best for you\n(Tuesday 6:00 pm – 7:00 pm OR Saturday 9:00 am – 10:00 am)\nStarts Sept 13 (Saturday) or Sept 16 (Tuesday) depending on your preferred day of week\nSix\, 1-hour lessons over six weeks\nParticipants receive free refreshers after graduation\n$149 per person\n\n\nIMPORTANT NOTE: \nYou are not locked into Tuesday or Saturday. Though we prefer consistent attendance\, you can adjust the day of the week you attend if necessary. \n\nRegister or Inquire\nPlease note that these lessons are for adults (18+). If registering\, we will follow up with payment instructions. \nPlease enable JavaScript in your browser to complete this form.Please enable JavaScript in your browser to complete this form.		\n			Phone First Questions\n			\n		\n		First Name *Last Name *Email *Phone *QuestionsSEND
URL:https://www.golfquailvalley.com/event/golf-lessons-for-adults-september-2025/
LOCATION:Quail Valley Golf Club\, 2880 La Quinta Dr\, Missouri City\, TX\, 77459\, United States
CATEGORIES:Golf
ATTACH;FMTTYPE=image/webp:https://www.golfquailvalley.com/wp-content/uploads/sites/9212/2024/08/houston-venue-golf-events-quail-valley-01.webp
END:VEVENT
BEGIN:VEVENT
DTSTART;TZID=America/Chicago:20250920T170000
DTEND;TZID=America/Chicago:20250920T200000
DTSTAMP:20260422T165007
CREATED:20250902T222518Z
LAST-MODIFIED:20250902T222708Z
UID:3298-1758387600-1758398400@www.golfquailvalley.com
SUMMARY:MCTX Oktoberfest 2025
DESCRIPTION:Get ready to raise your steins and celebrate Bavarian-style! \nJoin us for Missouri City’s annual Oktoberfest experience filled with beer\, bratwurst\, and live music! \nOktoberfest Activities\n\nGerman beers & local brews\nTraditional Bavarian food – pretzels\, sausages\, schnitzel & more\nLive Oompah band\nStein-holding contest\nFamily-friendly activities during the day\nCostumes encouraged – prizes for best dressed!\n\nWiener Dog Race!\nThink your dachshund has what it takes to be the Oktoberfest Champion? Register your pup here: https://tinyurl.com/3cvs4v6e
URL:https://www.golfquailvalley.com/event/mctx-oktoberfest-2025/
LOCATION:Quail Valley Golf Club\, 2880 La Quinta Dr\, Missouri City\, TX\, 77459\, United States
CATEGORIES:Family
ATTACH;FMTTYPE=image/webp:https://www.golfquailvalley.com/wp-content/uploads/sites/9212/2025/09/missouri-city-oktoberfest-2025.webp
END:VEVENT
BEGIN:VEVENT
DTSTART;TZID=America/Chicago:20250925T090000
DTEND;TZID=America/Chicago:20250925T130000
DTSTAMP:20260422T165007
CREATED:20250916T194404Z
LAST-MODIFIED:20250916T194404Z
UID:3312-1758790800-1758805200@www.golfquailvalley.com
SUMMARY:Callaway Fitting Day Sept. 2025
DESCRIPTION:Come try the newest clubs from Callaway at Quail Valley Golf Club. All fittings are by appointment\, and spots are limited\, so sign up soon. \nBOOK YOUR APPOINTMENT HERE\nCustom Fitting is one of the most important aspects of improving your golfer’s game. We make the fitting experience seamless from start to finish\, catering to your players needs and providing recommendations with confidence. Performance Fitters will work with you 1-on-1 for an exceptional fitting.
URL:https://www.golfquailvalley.com/event/callaway-fitting-day-sept-2025/
CATEGORIES:Golf
ATTACH;FMTTYPE=image/webp:https://www.golfquailvalley.com/wp-content/uploads/sites/9212/2025/06/golf-demo-day-Callaway-fitting.webp
END:VEVENT
END:VCALENDAR