BEGIN:VCALENDAR
VERSION:2.0
PRODID:-//Quail Valley - ECPv6.15.18//NONSGML v1.0//EN
CALSCALE:GREGORIAN
METHOD:PUBLISH
X-ORIGINAL-URL:https://www.golfquailvalley.com
X-WR-CALDESC:Events for Quail Valley
REFRESH-INTERVAL;VALUE=DURATION:PT1H
X-Robots-Tag:noindex
X-PUBLISHED-TTL:PT1H
BEGIN:VTIMEZONE
TZID:America/Chicago
BEGIN:DAYLIGHT
TZOFFSETFROM:-0600
TZOFFSETTO:-0500
TZNAME:CDT
DTSTART:20240310T080000
END:DAYLIGHT
BEGIN:STANDARD
TZOFFSETFROM:-0500
TZOFFSETTO:-0600
TZNAME:CST
DTSTART:20241103T070000
END:STANDARD
BEGIN:DAYLIGHT
TZOFFSETFROM:-0600
TZOFFSETTO:-0500
TZNAME:CDT
DTSTART:20250309T080000
END:DAYLIGHT
BEGIN:STANDARD
TZOFFSETFROM:-0500
TZOFFSETTO:-0600
TZNAME:CST
DTSTART:20251102T070000
END:STANDARD
BEGIN:DAYLIGHT
TZOFFSETFROM:-0600
TZOFFSETTO:-0500
TZNAME:CDT
DTSTART:20260308T080000
END:DAYLIGHT
BEGIN:STANDARD
TZOFFSETFROM:-0500
TZOFFSETTO:-0600
TZNAME:CST
DTSTART:20261101T070000
END:STANDARD
END:VTIMEZONE
BEGIN:VEVENT
DTSTART;TZID=America/Chicago:20250716T090000
DTEND;TZID=America/Chicago:20250716T140000
DTSTAMP:20260422T022028
CREATED:20250703T164953Z
LAST-MODIFIED:20250703T164953Z
UID:2972-1752656400-1752674400@www.golfquailvalley.com
SUMMARY:PXG Fitting Day
DESCRIPTION:Choose from any type of fitting\, from a single club to the full bag! \nBOOK YOUR APPOINTMENT HERE\nAll fittings are complimentary the day of the event. If full\, a wait list is available\, and your local PGA professionals will be on-site to assist day-of.
URL:https://www.golfquailvalley.com/event/pxg-fitting-day/
CATEGORIES:Golf
ATTACH;FMTTYPE=image/jpeg:https://www.golfquailvalley.com/wp-content/uploads/sites/9212/2025/07/PXG-QV-MCTX.jpg
END:VEVENT
BEGIN:VEVENT
DTSTART;TZID=America/Chicago:20250718T080000
DTEND;TZID=America/Chicago:20250718T120000
DTSTAMP:20260422T022028
CREATED:20250613T150100Z
LAST-MODIFIED:20250613T152935Z
UID:2876-1752825600-1752840000@www.golfquailvalley.com
SUMMARY:Titleist Fitting Day
DESCRIPTION:BOOK YOUR APPOINTMENT HERE\nIf full\, a wait list is available\, and your local PGA professionals will be on-site to assist day-of.
URL:https://www.golfquailvalley.com/event/titleist-fitting-day/
LOCATION:Quail Valley\, 2880 La Quinta Dr\, Missouri City\, TX\, 77459\, United States
CATEGORIES:Golf
ATTACH;FMTTYPE=image/webp:https://www.golfquailvalley.com/wp-content/uploads/sites/9212/2025/06/golf-demo-day-Titleist-fitting.webp
END:VEVENT
BEGIN:VEVENT
DTSTART;TZID=America/Chicago:20250719T110000
DTEND;TZID=America/Chicago:20250719T150000
DTSTAMP:20260422T022028
CREATED:20250613T145208Z
LAST-MODIFIED:20250614T160339Z
UID:2873-1752922800-1752937200@www.golfquailvalley.com
SUMMARY:Cobra Golf Fitting Day
DESCRIPTION:BOOK YOUR APPOINTMENT HERE\nIf full\, a wait list is available\, and your local PGA professionals will be on-site to assist day-of.
URL:https://www.golfquailvalley.com/event/cobra-fitting-day/
LOCATION:Quail Valley\, 2880 La Quinta Dr\, Missouri City\, TX\, 77459\, United States
CATEGORIES:Golf
ATTACH;FMTTYPE=image/webp:https://www.golfquailvalley.com/wp-content/uploads/sites/9212/2025/06/golf-demo-day-Cobra-fittings.webp
END:VEVENT
END:VCALENDAR