BEGIN:VCALENDAR
VERSION:2.0
PRODID:-//Quail Valley - ECPv6.15.18//NONSGML v1.0//EN
CALSCALE:GREGORIAN
METHOD:PUBLISH
X-ORIGINAL-URL:https://www.golfquailvalley.com
X-WR-CALDESC:Events for Quail Valley
REFRESH-INTERVAL;VALUE=DURATION:PT1H
X-Robots-Tag:noindex
X-PUBLISHED-TTL:PT1H
BEGIN:VTIMEZONE
TZID:America/Chicago
BEGIN:DAYLIGHT
TZOFFSETFROM:-0600
TZOFFSETTO:-0500
TZNAME:CDT
DTSTART:20240310T080000
END:DAYLIGHT
BEGIN:STANDARD
TZOFFSETFROM:-0500
TZOFFSETTO:-0600
TZNAME:CST
DTSTART:20241103T070000
END:STANDARD
BEGIN:DAYLIGHT
TZOFFSETFROM:-0600
TZOFFSETTO:-0500
TZNAME:CDT
DTSTART:20250309T080000
END:DAYLIGHT
BEGIN:STANDARD
TZOFFSETFROM:-0500
TZOFFSETTO:-0600
TZNAME:CST
DTSTART:20251102T070000
END:STANDARD
BEGIN:DAYLIGHT
TZOFFSETFROM:-0600
TZOFFSETTO:-0500
TZNAME:CDT
DTSTART:20260308T080000
END:DAYLIGHT
BEGIN:STANDARD
TZOFFSETFROM:-0500
TZOFFSETTO:-0600
TZNAME:CST
DTSTART:20261101T070000
END:STANDARD
END:VTIMEZONE
BEGIN:VEVENT
DTSTART;VALUE=DATE:20250721
DTEND;VALUE=DATE:20250725
DTSTAMP:20260422T191540
CREATED:20250701T152832Z
LAST-MODIFIED:20250707T182900Z
UID:2969-1753056000-1753401599@www.golfquailvalley.com
SUMMARY:Junior Golf Summer Camp (July)
DESCRIPTION:They’re back… For ages 6 through 15\, here is your opportunity to get your kid into the game of golf or just get them out of the house\, away from the TV\,  and off the video games! \n\n4 Consecutive Days\nJuly 21 (Mon) – July 24 (Thurs)\n10:00 am – 12:00 pm\nSpecial water balloon golf fun on Thursday (bring a change of clothes) and lunch will be provided on Thursday\n$125 per junior\n\nRegister or Inquire\nIf registering\, we will follow up with payment instructions. \nPlease enable JavaScript in your browser to complete this form.Please enable JavaScript in your browser to complete this form.Parent First Name *Parent Last Name *Parent Email *Parent Phone *Junior(s) Name & Date of Birth *		\n			Birth Layout Email\n			\n		\n		QuestionsSEND
URL:https://www.golfquailvalley.com/event/junior-golf-summer-camp-july/
CATEGORIES:Golf
ATTACH;FMTTYPE=image/webp:https://www.golfquailvalley.com/wp-content/uploads/sites/9212/2025/06/Junior-golf-summer-camp-kids.webp
END:VEVENT
END:VCALENDAR