BEGIN:VCALENDAR
VERSION:2.0
PRODID:-//Quail Valley - ECPv6.15.18//NONSGML v1.0//EN
CALSCALE:GREGORIAN
METHOD:PUBLISH
X-ORIGINAL-URL:https://www.golfquailvalley.com
X-WR-CALDESC:Events for Quail Valley
REFRESH-INTERVAL;VALUE=DURATION:PT1H
X-Robots-Tag:noindex
X-PUBLISHED-TTL:PT1H
BEGIN:VTIMEZONE
TZID:America/Chicago
BEGIN:DAYLIGHT
TZOFFSETFROM:-0600
TZOFFSETTO:-0500
TZNAME:CDT
DTSTART:20240310T080000
END:DAYLIGHT
BEGIN:STANDARD
TZOFFSETFROM:-0500
TZOFFSETTO:-0600
TZNAME:CST
DTSTART:20241103T070000
END:STANDARD
BEGIN:DAYLIGHT
TZOFFSETFROM:-0600
TZOFFSETTO:-0500
TZNAME:CDT
DTSTART:20250309T080000
END:DAYLIGHT
BEGIN:STANDARD
TZOFFSETFROM:-0500
TZOFFSETTO:-0600
TZNAME:CST
DTSTART:20251102T070000
END:STANDARD
BEGIN:DAYLIGHT
TZOFFSETFROM:-0600
TZOFFSETTO:-0500
TZNAME:CDT
DTSTART:20260308T080000
END:DAYLIGHT
BEGIN:STANDARD
TZOFFSETFROM:-0500
TZOFFSETTO:-0600
TZNAME:CST
DTSTART:20261101T070000
END:STANDARD
END:VTIMEZONE
BEGIN:VEVENT
DTSTART;VALUE=DATE:20250708
DTEND;VALUE=DATE:20250723
DTSTAMP:20260422T170427
CREATED:20250613T132535Z
LAST-MODIFIED:20250723T133550Z
UID:2871-1751932800-1753228799@www.golfquailvalley.com
SUMMARY:Group Golf Lessons for Adults
DESCRIPTION:For summer 2025\, we’re excited to launch a six-week series for adults wanting to learn the game or make incremental improvements. This gives you time to work on the adjustments during the week on your own and solidify those gains as we progress. \n\nAttend 1 group lesson per week – you choose the day best for you (Tuesday 6:00 pm – 7:00 pm OR Saturday 10:00 am 11:00 am)\nStarts July 8 (Tuesday) or July 12 (Saturday) depending on your preferred day of week\nSix\, 1-hour lessons over six weeks\nParticipants receive free refreshers after graduation\n$149 per person\n\n\nIMPORTANT NOTE: \nYou are not locked into Tuesday or Saturday. Though we prefer consistent attendance\, you can adjust the day of the week you attend if necessary. \n\nRegister or Inquire\nIf registering\, we will follow up with payment instructions. \nPlease enable JavaScript in your browser to complete this form.Please enable JavaScript in your browser to complete this form.First Name *Last Name *Email *Phone *		\n			Questions Name Layout\n			\n		\n		QuestionsSEND
URL:https://www.golfquailvalley.com/event/group-golf-lessons-for-adults/
LOCATION:Quail Valley\, 2880 La Quinta Dr\, Missouri City\, TX\, 77459\, United States
CATEGORIES:Golf
ATTACH;FMTTYPE=image/webp:https://www.golfquailvalley.com/wp-content/uploads/sites/9212/2024/08/houston-venue-golf-events-quail-valley-01.webp
END:VEVENT
END:VCALENDAR